BEGIN:VCALENDAR
VERSION:2.0
PRODID:-//OPR Youth - ECPv6.15.20//NONSGML v1.0//EN
CALSCALE:GREGORIAN
METHOD:PUBLISH
X-ORIGINAL-URL:https://opryouth.com
X-WR-CALDESC:Events for OPR Youth
REFRESH-INTERVAL;VALUE=DURATION:PT1H
X-Robots-Tag:noindex
X-PUBLISHED-TTL:PT1H
BEGIN:VTIMEZONE
TZID:UTC
BEGIN:STANDARD
TZOFFSETFROM:+0000
TZOFFSETTO:+0000
TZNAME:UTC
DTSTART:20240101T000000
END:STANDARD
END:VTIMEZONE
BEGIN:VEVENT
DTSTART;VALUE=DATE:20250214
DTEND;VALUE=DATE:20250217
DTSTAMP:20260423T193637
CREATED:20240814T033713Z
LAST-MODIFIED:20240828T143315Z
UID:6927-1739491200-1739750399@opryouth.com
SUMMARY:Amplify Winterfest
DESCRIPTION:SIGN UP HERE:\nPlease enable JavaScript in your browser to complete this form.Please enable JavaScript in your browser to complete this form.Are you a Parent or Student? *ParentStudentStudent Name *FirstLastStudent PhoneParent Name *FirstLastParent Phone *Submit
URL:https://opryouth.com/event/amplify-winterfest/
LOCATION:Chattanooga Convention Center\, One Carter Plaza\, Chattanooga\, TN\, 37402\, United States
CATEGORIES:Trip
ATTACH;FMTTYPE=image/jpeg:https://opryouth.com/wp-content/uploads/2024/08/Untitled-design.jpg
END:VEVENT
END:VCALENDAR